BEGIN:VCALENDAR
VERSION:2.0
PRODID:-//Centro de Investigación y Creación - Facultad de Artes y Humanidades - Universidad de los Andes
CALSCALE:GREGORIAN
METHOD:PUBLISH
X-WR-CALNAME:Centro de Investigación y Creación - Facultad de Artes y Humanidades - Universidad de los Andes
X-ORIGINAL-URL:https://cic.uniandes.edu.co/evento/la-biblioteca-para-las-artes-y-las-humanidades-taller-de-recursos-2/
X-WR-CALDESC:La biblioteca para las artes y las humanidades: taller de recursos
BEGIN:VEVENT
DTSTART:20200305T110000
DTEND:20200305T123000
SUMMARY:La biblioteca para las artes y las humanidades: taller de recursos
DESCRIPTION:
LOCATION:Biblioteca General Ramón de Zubiría, Universidad de los Andes, Bogotá
END:VEVENT
END:VCALENDAR
