BEGIN:VCALENDAR
VERSION:2.0
PRODID:-//Centro de Investigación y Creación - Facultad de Artes y Humanidades - Universidad de los Andes
CALSCALE:GREGORIAN
METHOD:PUBLISH
X-WR-CALNAME:Centro de Investigación y Creación - Facultad de Artes y Humanidades - Universidad de los Andes
X-ORIGINAL-URL:https://cic.uniandes.edu.co/evento/concierto-bogota-piano-trio/
X-WR-CALDESC:Concierto Bogotá Piano Trío
BEGIN:VEVENT
DTSTART:20200305T120000
DTEND:20200305T133000
SUMMARY:Concierto Bogotá Piano Trío
DESCRIPTION:Fundado en 2016, el Bogotá Piano Trío lleva a sus espaldas presentaciones en reconocidos escenarios y festivales de Colombia. El trío ha colaborado también con compositores de Colombia,
LOCATION:Sala de Música Ernesto Martin, Universidad de los Andes, Bogotá
END:VEVENT
END:VCALENDAR
