BEGIN:VCALENDAR
VERSION:2.0
PRODID:-//Centro de Investigación y Creación - Facultad de Artes y Humanidades - Universidad de los Andes
CALSCALE:GREGORIAN
METHOD:PUBLISH
X-WR-CALNAME:Centro de Investigación y Creación - Facultad de Artes y Humanidades - Universidad de los Andes
X-ORIGINAL-URL:https://cic.uniandes.edu.co/evento/proyeccion-hombre-dorado-6-marzo/
X-WR-CALDESC:Proyección Hombre Dorado
BEGIN:VEVENT
DTSTART:20200306T153000
DTEND:20200306T170000
SUMMARY:Proyección Hombre Dorado
DESCRIPTION:
LOCATION:Salón Intermedial, TX- 104, Universidad de los Andes
END:VEVENT
END:VCALENDAR
