BEGIN:VCALENDAR
VERSION:2.0
PRODID:-//Centro de Investigación y Creación - Facultad de Artes y Humanidades - Universidad de los Andes
CALSCALE:GREGORIAN
METHOD:PUBLISH
X-WR-CALNAME:Centro de Investigación y Creación - Facultad de Artes y Humanidades - Universidad de los Andes
X-ORIGINAL-URL:https://cic.uniandes.edu.co/evento/conferencia-domenico-scarlatti-y-la-construccion-de-un-estilo-espanol/
X-WR-CALDESC:Conferencia Domenico Scarlatti y la construcción de un estilo español
BEGIN:VEVENT
DTSTART:20200303T153000
DTEND:20200303T170000
SUMMARY:Conferencia Domenico Scarlatti y la construcción de un estilo español
DESCRIPTION:Essercizi per Gravicembalo (London, 1738-9) es la primera publicación de sonatas para clavicémbalo de Domenico Scarlatti. Los Essercizi conforman una colección multinacional en la que los estilos francés, italiano y español están representados
LOCATION:Salón S1 205, Universidad de los Andes
END:VEVENT
END:VCALENDAR
