BEGIN:VCALENDAR
VERSION:2.0
PRODID:-//Centro de Investigación y Creación - Facultad de Artes y Humanidades - Universidad de los Andes
CALSCALE:GREGORIAN
METHOD:PUBLISH
X-WR-CALNAME:Centro de Investigación y Creación - Facultad de Artes y Humanidades - Universidad de los Andes
X-ORIGINAL-URL:https://cic.uniandes.edu.co/evento/juego-de-pictionary-2/
X-WR-CALDESC:Juego de pictionary
BEGIN:VEVENT
DTSTART:20200304T140000
DTEND:20200304T160000
SUMMARY:Juego de pictionary
DESCRIPTION:
LOCATION:Edificio TX, primer piso Universidad de los Andes
END:VEVENT
END:VCALENDAR
