BEGIN:VCALENDAR
VERSION:2.0
PRODID:-//Centro de Investigación y Creación - Facultad de Artes y Humanidades - Universidad de los Andes
CALSCALE:GREGORIAN
METHOD:PUBLISH
X-WR-CALNAME:Centro de Investigación y Creación - Facultad de Artes y Humanidades - Universidad de los Andes
X-ORIGINAL-URL:https://cic.uniandes.edu.co/evento/hybris-2-6/
X-WR-CALDESC:Lanzamiento Hybris en el marco de la cátedra &#8220;Nuestro futuro&#8221;
BEGIN:VEVENT
DTSTART:20200310T110000
DTEND:20200310T130000
SUMMARY:Lanzamiento Hybris en el marco de la cátedra &#8220;Nuestro futuro&#8221;
DESCRIPTION:
LOCATION:Auditorio Mario Laserna, Universidad de los Andes. 
END:VEVENT
END:VCALENDAR
