BEGIN:VCALENDAR
VERSION:2.0
PRODID:-//Centro de Investigación y Creación - Facultad de Artes y Humanidades - Universidad de los Andes
CALSCALE:GREGORIAN
METHOD:PUBLISH
X-WR-CALNAME:Centro de Investigación y Creación - Facultad de Artes y Humanidades - Universidad de los Andes
X-ORIGINAL-URL:https://cic.uniandes.edu.co/evento/taller-de-macrame-en-cienaga-de-oro/
X-WR-CALDESC:Taller de macramé en Ciénaga de Oro
BEGIN:VEVENT
DTSTART:20200316T150000
DTEND:20200318T180000
SUMMARY:Taller de macramé en Ciénaga de Oro
DESCRIPTION:
LOCATION:Casa de la Cultura - Ciénaga de Oro, Colombia. 
END:VEVENT
END:VCALENDAR
