BEGIN:VCALENDAR
VERSION:2.0
PRODID:-//Centro de Investigación y Creación - Facultad de Artes y Humanidades - Universidad de los Andes
CALSCALE:GREGORIAN
METHOD:PUBLISH
X-WR-CALNAME:Centro de Investigación y Creación - Facultad de Artes y Humanidades - Universidad de los Andes
X-ORIGINAL-URL:https://cic.uniandes.edu.co/evento/como-volver-al-campus-laboratorios-y-talleres-facultades-de-humanidades-y-ciencias/
X-WR-CALDESC:¿Cómo volver al campus? Laboratorios y talleres. Facultades de Humanidades y Ciencias
BEGIN:VEVENT
DTSTART:20200527T110000
DTEND:20200527T123000
SUMMARY:¿Cómo volver al campus? Laboratorios y talleres. Facultades de Humanidades y Ciencias
DESCRIPTION:
LOCATION:Universidad de los Andes, Bogotá
END:VEVENT
END:VCALENDAR
