BEGIN:VCALENDAR
VERSION:2.0
PRODID:-//Centro de Investigación y Creación - Facultad de Artes y Humanidades - Universidad de los Andes
CALSCALE:GREGORIAN
METHOD:PUBLISH
X-WR-CALNAME:Centro de Investigación y Creación - Facultad de Artes y Humanidades - Universidad de los Andes
X-ORIGINAL-URL:https://cic.uniandes.edu.co/evento/dia-paiz/
X-WR-CALDESC:Día Paiz 2020
BEGIN:VEVENT
DTSTART:20200921T000000
DTEND:20200925T000000
SUMMARY:Día Paiz 2020
DESCRIPTION:Del 21 al 25 de septiembre de 2020
LOCATION:Universidad de los Andes, Bogotá
END:VEVENT
END:VCALENDAR
