BEGIN:VCALENDAR
VERSION:2.0
PRODID:-//Centro de Investigación y Creación - Facultad de Artes y Humanidades - Universidad de los Andes
CALSCALE:GREGORIAN
METHOD:PUBLISH
X-WR-CALNAME:Centro de Investigación y Creación - Facultad de Artes y Humanidades - Universidad de los Andes
X-ORIGINAL-URL:https://cic.uniandes.edu.co/evento/presentacion-del-libro-teatro-de-marionetas-de-jaime-manzur/
X-WR-CALDESC:Presentación del libro Teatro de marionetas de Jaime Manzur
BEGIN:VEVENT
DTSTART:20201111T183000
DTEND:20201111T200000
SUMMARY:Presentación del libro Teatro de marionetas de Jaime Manzur
DESCRIPTION:Invitados: Mario Omar Fernández, compilador, Eugenia Serpa, Bienes Muebles – Ministerio de Cultura, Daniela Güiza, Arte – Universidad de los Andes
LOCATION:Universidad de los Andes, Bogotá
END:VEVENT
END:VCALENDAR
