BEGIN:VCALENDAR
VERSION:2.0
PRODID:-//Centro de Investigación y Creación - Facultad de Artes y Humanidades - Universidad de los Andes
CALSCALE:GREGORIAN
METHOD:PUBLISH
X-WR-CALNAME:Centro de Investigación y Creación - Facultad de Artes y Humanidades - Universidad de los Andes
X-ORIGINAL-URL:https://cic.uniandes.edu.co/evento/todo-lo-que-quiere-saber-de-narcolombia/
X-WR-CALDESC:Todo lo que quiere saber de Narcolombia
BEGIN:VEVENT
DTSTART:20201202T180000
DTEND:20201202T193000
SUMMARY:Todo lo que quiere saber de Narcolombia
DESCRIPTION:Narcolombia es «líneas de investigación y creación sobre estética y narcotráfico en Colombia» que viajan sobre lo narco como producción cultural; por eso, es moda, música, imágenes, arte, mercancías, objetos y relatos narco.
LOCATION:Universidad de los Andes, Bogotá
END:VEVENT
END:VCALENDAR
