BEGIN:VCALENDAR
VERSION:2.0
PRODID:-//Centro de Investigación y Creación - Facultad de Artes y Humanidades - Universidad de los Andes
CALSCALE:GREGORIAN
METHOD:PUBLISH
X-WR-CALNAME:Centro de Investigación y Creación - Facultad de Artes y Humanidades - Universidad de los Andes
X-ORIGINAL-URL:https://cic.uniandes.edu.co/evento/jornadas-sobre-censura-y-libertad-de-creacion/
X-WR-CALDESC:Jornadas sobre censura y libertad de creación
BEGIN:VEVENT
DTSTART:20201125T000000
DTEND:20201127T000000
SUMMARY:Jornadas sobre censura y libertad de creación
DESCRIPTION:
LOCATION:Evento en línea
END:VEVENT
END:VCALENDAR
