BEGIN:VCALENDAR
VERSION:2.0
PRODID:-//Centro de Investigación y Creación - Facultad de Artes y Humanidades - Universidad de los Andes
CALSCALE:GREGORIAN
METHOD:PUBLISH
X-WR-CALNAME:Centro de Investigación y Creación - Facultad de Artes y Humanidades - Universidad de los Andes
X-ORIGINAL-URL:https://cic.uniandes.edu.co/evento/dia-del-estudiante-bingo-fopre-2/
X-WR-CALDESC:Bingo Fopre
BEGIN:VEVENT
DTSTART:20201208T150000
DTEND:20201208T170000
SUMMARY:Bingo Fopre
DESCRIPTION:Este 8 de diciembre se realizará virtualmente el tradicional Bingo Fopre
LOCATION:Universidad de los Andes, Bogotá
END:VEVENT
END:VCALENDAR
