BEGIN:VCALENDAR
VERSION:2.0
PRODID:-//Centro de Investigación y Creación - Facultad de Artes y Humanidades - Universidad de los Andes
CALSCALE:GREGORIAN
METHOD:PUBLISH
X-WR-CALNAME:Centro de Investigación y Creación - Facultad de Artes y Humanidades - Universidad de los Andes
X-ORIGINAL-URL:https://cic.uniandes.edu.co/evento/publicaciones-en-periodismos-lentos/
X-WR-CALDESC:Publicaciones en periodismos lentos
BEGIN:VEVENT
DTSTART:20210423T160000
DTEND:20210423T173000
SUMMARY:Publicaciones en periodismos lentos
DESCRIPTION:
LOCATION:Evento virtual
END:VEVENT
END:VCALENDAR
